BEGIN:VCALENDAR
VERSION:2.0
PRODID:-//Mount Isa - Krause Health &amp; Safety - ECPv6.15.20//NONSGML v1.0//EN
CALSCALE:GREGORIAN
METHOD:PUBLISH
X-WR-CALNAME:Mount Isa - Krause Health &amp; Safety
X-ORIGINAL-URL:https://mountisa.krausegroup.com.au
X-WR-CALDESC:Events for Mount Isa - Krause Health &amp; Safety
REFRESH-INTERVAL;VALUE=DURATION:PT1H
X-Robots-Tag:noindex
X-PUBLISHED-TTL:PT1H
BEGIN:VTIMEZONE
TZID:Australia/Brisbane
BEGIN:STANDARD
TZOFFSETFROM:+1000
TZOFFSETTO:+1000
TZNAME:AEST
DTSTART:20250101T000000
END:STANDARD
END:VTIMEZONE
BEGIN:VEVENT
DTSTART;TZID=Australia/Brisbane:20260821T070000
DTEND;TZID=Australia/Brisbane:20260821T120000
DTSTAMP:20260424T080627
CREATED:20260413T005159Z
LAST-MODIFIED:20260413T005159Z
UID:12609-1787295600-1787313600@mountisa.krausegroup.com.au
SUMMARY:FFA - Fire (7am-9am) &/or BasicFirstAid&CPR (9am-12noon)
DESCRIPTION:  \nCourse Overview\nIf you are looking to enrol into either apply initial response first aid (Basic First Aid) or Fire Team Operations as a standalone/partial enrolment in this course\, please contact our administration team to organise this.\n\n\nApply Initial Response First Aid\n\nRIIERR205D – Apply initial response First Aid\nHLTAID009 – Provide cardiopulmonary resuscitation \n\nThis course has been designed to give the student basic first aid skills and information in what to do initially in the case that someone is injured or sick.  It includes: assessing the situation; applying First Aid; Basic CPR and recording and reporting the situation.\n  \n\nFire \n\nPUAFER008 Confine small emergencies in a facility  \n\nThis course covers the conducting of fire team operations\, including the planning and preparing for fighting or containing fires and finalising operations. It aims to provide participants with the skills and knowledge required to prevent or fight a fire with the intention of stopping it from spreading \n\n\nEnquire \nUpcoming Courses\nThere are currently no openings available for this course.
URL:https://mountisa.krausegroup.com.au/training/ffa-fire-7am-9am-or-basicfirstaidcpr-9am-12noon-9/
LOCATION:3-5 Commercial Road\, Ryan QLD 4825\, 3-5 Commercial Road\, Ryan QLD 4825\, Australia
CATEGORIES:Workshop
END:VEVENT
BEGIN:VEVENT
DTSTART;TZID=Australia/Brisbane:20260825T070000
DTEND;TZID=Australia/Brisbane:20260825T120000
DTSTAMP:20260424T080628
CREATED:20260413T005217Z
LAST-MODIFIED:20260413T005217Z
UID:12622-1787641200-1787659200@mountisa.krausegroup.com.au
SUMMARY:Driving on the Mount Isa Mines Surface Operations
DESCRIPTION:  \nCourse Overview\nThis is a non-accredited course.\nPlease note: You will need to upload a copy of your valid Australian driver licence and CARDAX card to complete your enrolment.\n\nIt is a requirement that all staff and contractors complete this course before operation of any light vehicles/mobile equipment on the Mount Isa Mines site. This course provides participants with the knowledge to allow them to operate a light vehicle/mobile equipment safely\, whilst following the road rules and procedures practised on the Mount Isa lease.\n\n\nEnquire \nUpcoming Courses\n\n\nName\nDate\nTime\nLocation\nAvailable Spaces\nCost\n\n\n\n\n\n\nDriving on the Mount Isa Mines Surface Operations\n6 May 2026\n07:00 am - 12:00 pm\n3-5 Commercial Road\, Ryan QLD 4825\n8\n$209.00\nEnrol
URL:https://mountisa.krausegroup.com.au/training/driving-on-the-mount-isa-mines-surface-operations-15/
LOCATION:3-5 Commercial Road\, Ryan QLD 4825\, 3-5 Commercial Road\, Ryan QLD 4825\, Australia
CATEGORIES:Workshop
END:VEVENT
BEGIN:VEVENT
DTSTART;TZID=Australia/Brisbane:20260825T070000
DTEND;TZID=Australia/Brisbane:20260825T160000
DTSTAMP:20260424T080629
CREATED:20260413T004456Z
LAST-MODIFIED:20260413T004456Z
UID:12601-1787641200-1787673600@mountisa.krausegroup.com.au
SUMMARY:FFA&MH - Fire (7am-9am) &/or BasicFirstAid&CPR (9am-12noon) &/or ManualHandling (1pm-4pm)
DESCRIPTION:  \nCourse Overview\nIf you are looking to enrol into Apply Initial Response First Aid (Basic First Aid)\, Confine small emergencies in a facility (Fire)\, or Conduct manual tasks safely (MH) as a standalone/partial enrolment in this course\, please contact our administration team to organise this for you.\n\nadmin@krausegroup.com.au or 0747433504\n \n\nPUAFER008 - Confine small emergencies in a facility\nThis entry-level course includes planning and preparing for fighting or containing fires and finalising operations. It will provide you with sufficient skills and knowledge to prevent or fight a fire with the intention of stopping it from spreading.\n \nRIIERR205D – Apply initial response First Aid\nHLTAID009 – Provide cardiopulmonary resuscitation  \n\nThis course has been designed to give the student basic first aid skills and information in what to do initially in the case that someone is injured or sick.  It includes: assessing the situation; applying First Aid; Basic CPR and recording and reporting the situation\, this course is a pre-requisite for LVR training.\n\nHLTWHS005 – Conduct manual tasks safely \n\nThis course is designed to provide participants with the knowledge & skills to effectively identify and control risks arising from manual handling tasks and to encourage awareness of manual handling and back care. \n\n\n \n\n\nEnquire \nUpcoming Courses\nThere are currently no openings available for this course.
URL:https://mountisa.krausegroup.com.au/training/ffamh-fire-7am-9am-or-basicfirstaidcpr-9am-12noon-or-manualhandling-1pm-4pm-4/
LOCATION:3-5 Commercial Road\, Ryan QLD 4825\, 3-5 Commercial Road\, Ryan QLD 4825\, Australia
CATEGORIES:Workshop
END:VEVENT
BEGIN:VEVENT
DTSTART;TZID=Australia/Brisbane:20260826T070000
DTEND;TZID=Australia/Brisbane:20260826T163000
DTSTAMP:20260424T080630
CREATED:20260413T004447Z
LAST-MODIFIED:20260413T004447Z
UID:12594-1787727600-1787761800@mountisa.krausegroup.com.au
SUMMARY:Heights (7am-11:30am) &/or Confined Spaces (12:30pm-4:30pm)
DESCRIPTION:  \nCourse Overview\nIf you are looking to enrol into Working at Heights or Confined Space as a standalone/partial enrolment in this course\, please contact our administration team to organise this for you.\n\nadmin@krausegroup.com.au or 0747433504\n \n\nMSMPER200 – Work in accordance with an issued permit \n\nRIIWHS202E – Enter and work in confined spaces \n\nThis course covers entering and working in confined spaces in resources and construction industries. It includes planning and preparing for entry of confined spaces\, entry and working in confined spaces\, exiting confined spaces and working with an issued permit. \n\nRIIWHS204E – Work safely at heights \n\nThis course covers the management of working at heights\, it will provide participants with the ability to work safely at heights including identifying height work requirements\, work procedures and instructions for the task\, accessing and installing equipment\, performing work at heights and cleaning the work area. This course is inclusive of a practical component of being suspended in a harness. \n\n\nEnquire \nUpcoming Courses\nThere are currently no openings available for this course.
URL:https://mountisa.krausegroup.com.au/training/heights-7am-1130am-or-confined-spaces-1230pm-430pm-4/
LOCATION:3-5 Commercial Road\, Ryan QLD 4825\, 3-5 Commercial Road\, Ryan QLD 4825\, Australia
CATEGORIES:Workshop
END:VEVENT
BEGIN:VEVENT
DTSTART;TZID=Australia/Brisbane:20260827T070000
DTEND;TZID=Australia/Brisbane:20260827T120000
DTSTAMP:20260424T080631
CREATED:20260413T005216Z
LAST-MODIFIED:20260413T005216Z
UID:12621-1787814000-1787832000@mountisa.krausegroup.com.au
SUMMARY:Driving on the Mount Isa Mines Surface Operations
DESCRIPTION:  \nCourse Overview\nThis is a non-accredited course.\nPlease note: You will need to upload a copy of your valid Australian driver licence and CARDAX card to complete your enrolment.\n\nIt is a requirement that all staff and contractors complete this course before operation of any light vehicles/mobile equipment on the Mount Isa Mines site. This course provides participants with the knowledge to allow them to operate a light vehicle/mobile equipment safely\, whilst following the road rules and procedures practised on the Mount Isa lease.\n\n\nEnquire \nUpcoming Courses\n\n\nName\nDate\nTime\nLocation\nAvailable Spaces\nCost\n\n\n\n\n\n\nDriving on the Mount Isa Mines Surface Operations\n6 May 2026\n07:00 am - 12:00 pm\n3-5 Commercial Road\, Ryan QLD 4825\n8\n$209.00\nEnrol
URL:https://mountisa.krausegroup.com.au/training/driving-on-the-mount-isa-mines-surface-operations-14/
LOCATION:3-5 Commercial Road\, Ryan QLD 4825\, 3-5 Commercial Road\, Ryan QLD 4825\, Australia
CATEGORIES:Workshop
END:VEVENT
BEGIN:VEVENT
DTSTART;TZID=Australia/Brisbane:20260828T070000
DTEND;TZID=Australia/Brisbane:20260828T120000
DTSTAMP:20260424T080632
CREATED:20260413T005158Z
LAST-MODIFIED:20260413T005158Z
UID:12608-1787900400-1787918400@mountisa.krausegroup.com.au
SUMMARY:FFA - Fire (7am-9am) &/or BasicFirstAid&CPR (9am-12noon)
DESCRIPTION:  \nCourse Overview\nIf you are looking to enrol into either apply initial response first aid (Basic First Aid) or Fire Team Operations as a standalone/partial enrolment in this course\, please contact our administration team to organise this.\n\n\nApply Initial Response First Aid\n\nRIIERR205D – Apply initial response First Aid\nHLTAID009 – Provide cardiopulmonary resuscitation \n\nThis course has been designed to give the student basic first aid skills and information in what to do initially in the case that someone is injured or sick.  It includes: assessing the situation; applying First Aid; Basic CPR and recording and reporting the situation.\n  \n\nFire \n\nPUAFER008 Confine small emergencies in a facility  \n\nThis course covers the conducting of fire team operations\, including the planning and preparing for fighting or containing fires and finalising operations. It aims to provide participants with the skills and knowledge required to prevent or fight a fire with the intention of stopping it from spreading \n\n\nEnquire \nUpcoming Courses\nThere are currently no openings available for this course.
URL:https://mountisa.krausegroup.com.au/training/ffa-fire-7am-9am-or-basicfirstaidcpr-9am-12noon-8/
LOCATION:3-5 Commercial Road\, Ryan QLD 4825\, 3-5 Commercial Road\, Ryan QLD 4825\, Australia
CATEGORIES:Workshop
END:VEVENT
END:VCALENDAR