BEGIN:VCALENDAR
VERSION:2.0
PRODID:-//Mount Isa - Krause Health &amp; Safety - ECPv6.15.20//NONSGML v1.0//EN
CALSCALE:GREGORIAN
METHOD:PUBLISH
X-WR-CALNAME:Mount Isa - Krause Health &amp; Safety
X-ORIGINAL-URL:https://mountisa.krausegroup.com.au
X-WR-CALDESC:Events for Mount Isa - Krause Health &amp; Safety
REFRESH-INTERVAL;VALUE=DURATION:PT1H
X-Robots-Tag:noindex
X-PUBLISHED-TTL:PT1H
BEGIN:VTIMEZONE
TZID:Australia/Brisbane
BEGIN:STANDARD
TZOFFSETFROM:+1000
TZOFFSETTO:+1000
TZNAME:AEST
DTSTART:20240101T000000
END:STANDARD
END:VTIMEZONE
BEGIN:VEVENT
DTSTART;VALUE=DATE:20250620
DTEND;VALUE=DATE:20250621
DTSTAMP:20260424T052701
CREATED:20250429T012643Z
LAST-MODIFIED:20250429T014033Z
UID:12277-1750377600-1750463999@mountisa.krausegroup.com.au
SUMMARY:Mount Isa Show Day - Public Holiday
DESCRIPTION:
URL:https://mountisa.krausegroup.com.au/training/mount-isa-show-day-public-holiday/
END:VEVENT
BEGIN:VEVENT
DTSTART;VALUE=DATE:20250505
DTEND;VALUE=DATE:20250506
DTSTAMP:20260424T052701
CREATED:20250429T014221Z
LAST-MODIFIED:20250429T014221Z
UID:12279-1746403200-1746489599@mountisa.krausegroup.com.au
SUMMARY:Labour Day - Public Holiday
DESCRIPTION:
URL:https://mountisa.krausegroup.com.au/training/labour-day-public-holiday/
END:VEVENT
END:VCALENDAR