BEGIN:VCALENDAR
VERSION:2.0
PRODID:-//Mount Isa - Krause Health &amp; Safety - ECPv6.15.20//NONSGML v1.0//EN
CALSCALE:GREGORIAN
METHOD:PUBLISH
X-ORIGINAL-URL:https://mountisa.krausegroup.com.au
X-WR-CALDESC:Events for Mount Isa - Krause Health &amp; Safety
REFRESH-INTERVAL;VALUE=DURATION:PT1H
X-Robots-Tag:noindex
X-PUBLISHED-TTL:PT1H
BEGIN:VTIMEZONE
TZID:Australia/Brisbane
BEGIN:STANDARD
TZOFFSETFROM:+1000
TZOFFSETTO:+1000
TZNAME:AEST
DTSTART:20250101T000000
END:STANDARD
END:VTIMEZONE
BEGIN:VEVENT
DTSTART;TZID=Australia/Brisbane:20260519T070000
DTEND;TZID=Australia/Brisbane:20260519T120000
DTSTAMP:20260424T065220
CREATED:20251117T233412Z
LAST-MODIFIED:20251117T233412Z
UID:12489-1779174000-1779192000@mountisa.krausegroup.com.au
SUMMARY:Driving on the Mount Isa Mines Surface Operations
DESCRIPTION:  \nCourse Overview\nThis is a non-accredited course.\nPlease note: You will need to upload a copy of your valid Australian driver licence and CARDAX card to complete your enrolment.\n\nIt is a requirement that all staff and contractors complete this course before operation of any light vehicles/mobile equipment on the Mount Isa Mines site. This course provides participants with the knowledge to allow them to operate a light vehicle/mobile equipment safely\, whilst following the road rules and procedures practised on the Mount Isa lease.\n\n\nEnquire \nUpcoming Courses\n\n\nName\nDate\nTime\nLocation\nAvailable Spaces\nCost\n\n\n\n\n\n\nDriving on the Mount Isa Mines Surface Operations\n6 May 2026\n07:00 am - 12:00 pm\n3-5 Commercial Road\, Ryan QLD 4825\n8\n$209.00\nEnrol
URL:https://mountisa.krausegroup.com.au/training/driving-on-the-mount-isa-mines-surface-operations-5/
LOCATION:3-5 Commercial Road\, Ryan QLD 4825\, 3-5 Commercial Road\, Ryan QLD 4825\, Australia
CATEGORIES:Workshop
END:VEVENT
BEGIN:VEVENT
DTSTART;TZID=Australia/Brisbane:20260519T070000
DTEND;TZID=Australia/Brisbane:20260519T160000
DTSTAMP:20260424T065221
CREATED:20251127T012937Z
LAST-MODIFIED:20251127T012937Z
UID:12545-1779174000-1779206400@mountisa.krausegroup.com.au
SUMMARY:FFA&MH - Fire (7am-9am) &/or BasicFirstAid&CPR (9am-12noon) &/or ManualHandling (1pm-4pm)
DESCRIPTION:  \nCourse Overview\nIf you are looking to enrol into Apply Initial Response First Aid (Basic First Aid)\, Confine small emergencies in a facility (Fire)\, or Conduct manual tasks safely (MH) as a standalone/partial enrolment in this course\, please contact our administration team to organise this for you.\n\nadmin@krausegroup.com.au or 0747433504\n \n\nPUAFER008 - Confine small emergencies in a facility\nThis entry-level course includes planning and preparing for fighting or containing fires and finalising operations. It will provide you with sufficient skills and knowledge to prevent or fight a fire with the intention of stopping it from spreading.\n \nRIIERR205D – Apply initial response First Aid\nHLTAID009 – Provide cardiopulmonary resuscitation  \n\nThis course has been designed to give the student basic first aid skills and information in what to do initially in the case that someone is injured or sick.  It includes: assessing the situation; applying First Aid; Basic CPR and recording and reporting the situation\, this course is a pre-requisite for LVR training.\n\nHLTWHS005 – Conduct manual tasks safely \n\nThis course is designed to provide participants with the knowledge & skills to effectively identify and control risks arising from manual handling tasks and to encourage awareness of manual handling and back care. \n\n\n \n\n\nEnquire \nUpcoming Courses\nThere are currently no openings available for this course.
URL:https://mountisa.krausegroup.com.au/training/ffamh-fire-7am-9am-or-basicfirstaidcpr-9am-12noon-or-manualhandling-1pm-4pm/
LOCATION:3-5 Commercial Road\, Ryan QLD 4825\, 3-5 Commercial Road\, Ryan QLD 4825\, Australia
CATEGORIES:Workshop
END:VEVENT
END:VCALENDAR