BEGIN:VCALENDAR
VERSION:2.0
PRODID:-//Mount Isa - Krause Health &amp; Safety - ECPv6.15.20//NONSGML v1.0//EN
CALSCALE:GREGORIAN
METHOD:PUBLISH
X-ORIGINAL-URL:https://mountisa.krausegroup.com.au
X-WR-CALDESC:Events for Mount Isa - Krause Health &amp; Safety
REFRESH-INTERVAL;VALUE=DURATION:PT1H
X-Robots-Tag:noindex
X-PUBLISHED-TTL:PT1H
BEGIN:VTIMEZONE
TZID:Australia/Brisbane
BEGIN:STANDARD
TZOFFSETFROM:+1000
TZOFFSETTO:+1000
TZNAME:AEST
DTSTART:20250101T000000
END:STANDARD
END:VTIMEZONE
BEGIN:VEVENT
DTSTART;TZID=Australia/Brisbane:20260804T070000
DTEND;TZID=Australia/Brisbane:20260806T170000
DTSTAMP:20260424T064548
CREATED:20260413T010440Z
LAST-MODIFIED:20260413T010440Z
UID:12648-1785826800-1786035600@mountisa.krausegroup.com.au
SUMMARY:Site Safety and Health Representative (S1S2S3) Mount Isa
DESCRIPTION:  \nCourse Overview\nRIICOM301E – Communicate Information \nRIIRIS301E – Apply risk management processes\nRIIWHS301E – Conduct safety and health investigations \n\nThis course provides participants with the ability to apply risk management processes\, conduct safety and health investigations and communicate information in resources and infrastructure industries. It is appropriate for those working in supervisory operational and maintenance roles\, or those functioning as members of committees or as safety and health representatives. \n\n\nEnquire \nUpcoming Courses\nThere are currently no openings available for this course.
URL:https://mountisa.krausegroup.com.au/training/site-safety-and-health-representative-s1s2s3-mount-isa-3/
LOCATION:3-5 Commercial Road\, Ryan QLD 4825\, 3-5 Commercial Road\, Ryan QLD 4825\, Australia
CATEGORIES:Workshop
END:VEVENT
END:VCALENDAR