BEGIN:VCALENDAR
VERSION:2.0
PRODID:-//Mount Isa - Krause Health &amp; Safety - ECPv6.15.20//NONSGML v1.0//EN
CALSCALE:GREGORIAN
METHOD:PUBLISH
X-WR-CALNAME:Mount Isa - Krause Health &amp; Safety
X-ORIGINAL-URL:https://mountisa.krausegroup.com.au
X-WR-CALDESC:Events for Mount Isa - Krause Health &amp; Safety
REFRESH-INTERVAL;VALUE=DURATION:PT1H
X-Robots-Tag:noindex
X-PUBLISHED-TTL:PT1H
BEGIN:VTIMEZONE
TZID:Australia/Brisbane
BEGIN:STANDARD
TZOFFSETFROM:+1000
TZOFFSETTO:+1000
TZNAME:AEST
DTSTART:20250101T000000
END:STANDARD
END:VTIMEZONE
BEGIN:VEVENT
DTSTART;TZID=Australia/Brisbane:20260609T070000
DTEND;TZID=Australia/Brisbane:20260611T170000
DTSTAMP:20260424T034843
CREATED:20260413T010447Z
LAST-MODIFIED:20260413T010447Z
UID:12652-1780988400-1781197200@mountisa.krausegroup.com.au
SUMMARY:Site Safety and Health Representative (S1S2S3) Mount Isa
DESCRIPTION:  \nCourse Overview\nRIICOM301E – Communicate Information \nRIIRIS301E – Apply risk management processes\nRIIWHS301E – Conduct safety and health investigations \n\nThis course provides participants with the ability to apply risk management processes\, conduct safety and health investigations and communicate information in resources and infrastructure industries. It is appropriate for those working in supervisory operational and maintenance roles\, or those functioning as members of committees or as safety and health representatives. \n\n\nEnquire \nUpcoming Courses\nThere are currently no openings available for this course.
URL:https://mountisa.krausegroup.com.au/training/site-safety-and-health-representative-s1s2s3-mount-isa-9/
LOCATION:3-5 Commercial Road\, Ryan QLD 4825\, 3-5 Commercial Road\, Ryan QLD 4825\, Australia
CATEGORIES:Workshop
END:VEVENT
BEGIN:VEVENT
DTSTART;TZID=Australia/Brisbane:20260610T070000
DTEND;TZID=Australia/Brisbane:20260610T163000
DTSTAMP:20260424T034844
CREATED:20260413T013129Z
LAST-MODIFIED:20260413T013129Z
UID:12664-1781074800-1781109000@mountisa.krausegroup.com.au
SUMMARY:Provide First Aid Mount Isa
DESCRIPTION:  \nCourse Overview\nHLTAID011 Provide First Aid\nHLTAID010 Provide basic emergency life support\n​HLTAID009 Provide cardiopulmonary resuscitation \n\nThis course gives participants the ability to administer first aid care in emergency situations\, as well as treat injuries and other illnesses\, it has value for anyone within the workplace\, community group\, sporting group or home environments who may be required to provide first aid response in a range of situations.  Qualification is valid for 3 years; however CPR component must be refreshed every 12 months. \n\n\nEnquire \nUpcoming Courses\nThere are currently no openings available for this course.
URL:https://mountisa.krausegroup.com.au/training/provide-first-aid-mount-isa-9/
LOCATION:3-5 Commercial Road\, Ryan QLD 4825\, 3-5 Commercial Road\, Ryan QLD 4825\, Australia
CATEGORIES:Workshop
END:VEVENT
END:VCALENDAR