BEGIN:VCALENDAR
VERSION:2.0
PRODID:-//Mount Isa - Krause Health &amp; Safety - ECPv6.15.20//NONSGML v1.0//EN
CALSCALE:GREGORIAN
METHOD:PUBLISH
X-ORIGINAL-URL:https://mountisa.krausegroup.com.au
X-WR-CALDESC:Events for Mount Isa - Krause Health &amp; Safety
REFRESH-INTERVAL;VALUE=DURATION:PT1H
X-Robots-Tag:noindex
X-PUBLISHED-TTL:PT1H
BEGIN:VTIMEZONE
TZID:Australia/Brisbane
BEGIN:STANDARD
TZOFFSETFROM:+1000
TZOFFSETTO:+1000
TZNAME:AEST
DTSTART:20250101T000000
END:STANDARD
END:VTIMEZONE
BEGIN:VEVENT
DTSTART;TZID=Australia/Brisbane:20260512T070000
DTEND;TZID=Australia/Brisbane:20260514T170000
DTSTAMP:20260424T022601
CREATED:20251117T233729Z
LAST-MODIFIED:20251117T233729Z
UID:12516-1778569200-1778778000@mountisa.krausegroup.com.au
SUMMARY:Site Safety and Health Representative (S1S2S3) Mount Isa
DESCRIPTION:  \nCourse Overview\nRIICOM301E – Communicate Information \nRIIRIS301E – Apply risk management processes\nRIIWHS301E – Conduct safety and health investigations \n\nThis course provides participants with the ability to apply risk management processes\, conduct safety and health investigations and communicate information in resources and infrastructure industries. It is appropriate for those working in supervisory operational and maintenance roles\, or those functioning as members of committees or as safety and health representatives. \n\n\nEnquire \nUpcoming Courses\nThere are currently no openings available for this course.
URL:https://mountisa.krausegroup.com.au/training/site-safety-and-health-representative-s1s2s3-mount-isa/
LOCATION:3-5 Commercial Road\, Ryan QLD 4825\, 3-5 Commercial Road\, Ryan QLD 4825\, Australia
CATEGORIES:Workshop
END:VEVENT
BEGIN:VEVENT
DTSTART;TZID=Australia/Brisbane:20260514T070000
DTEND;TZID=Australia/Brisbane:20260514T120000
DTSTAMP:20260424T022602
CREATED:20251117T233408Z
LAST-MODIFIED:20251117T233408Z
UID:12486-1778742000-1778760000@mountisa.krausegroup.com.au
SUMMARY:Driving on the Mount Isa Mines Surface Operations
DESCRIPTION:  \nCourse Overview\nThis is a non-accredited course.\nPlease note: You will need to upload a copy of your valid Australian driver licence and CARDAX card to complete your enrolment.\n\nIt is a requirement that all staff and contractors complete this course before operation of any light vehicles/mobile equipment on the Mount Isa Mines site. This course provides participants with the knowledge to allow them to operate a light vehicle/mobile equipment safely\, whilst following the road rules and procedures practised on the Mount Isa lease.\n\n\nEnquire \nUpcoming Courses\n\n\nName\nDate\nTime\nLocation\nAvailable Spaces\nCost\n\n\n\n\n\n\nDriving on the Mount Isa Mines Surface Operations\n6 May 2026\n07:00 am - 12:00 pm\n3-5 Commercial Road\, Ryan QLD 4825\n8\n$209.00\nEnrol
URL:https://mountisa.krausegroup.com.au/training/driving-on-the-mount-isa-mines-surface-operations-2/
LOCATION:3-5 Commercial Road\, Ryan QLD 4825\, 3-5 Commercial Road\, Ryan QLD 4825\, Australia
CATEGORIES:Workshop
END:VEVENT
END:VCALENDAR